BEGIN:VCALENDAR
PRODID:-//eluceo/ical//2.0/EN
VERSION:2.0
CALSCALE:GREGORIAN
BEGIN:VEVENT
UID:10d181f44c54b58cef8ceddbc101e6e8
DTSTAMP:20260423T093424Z
SUMMARY:jazz at union square: mason razavi
DESCRIPTION:
DTSTART:20250429T183000Z
DTEND:20250429T203000Z
END:VEVENT
BEGIN:VEVENT
UID:0ee046e0c4777200375c45d88be4aa2b
DTSTAMP:20260423T093424Z
SUMMARY:jazz at union square: masha campagne
DESCRIPTION:
DTSTART:20250422T183000Z
DTEND:20250422T203000Z
END:VEVENT
BEGIN:VEVENT
UID:f4021d9ac659a4e6f83ba99acf56ed66
DTSTAMP:20260423T093424Z
SUMMARY:jazz at union square: tiffany austin
DESCRIPTION:
DTSTART:20250415T183000Z
DTEND:20250415T203000Z
END:VEVENT
BEGIN:VEVENT
UID:35ceca14de2394c20f7b6e9e8fa43738
DTSTAMP:20260423T093424Z
SUMMARY:Marina Crouse and her Trio
DESCRIPTION:
DTSTART:20250406T023000Z
DTEND:20250406T043000Z
LOCATION:653 Chenery St\, San Francisco\, CA 94131
END:VEVENT
BEGIN:VEVENT
UID:8f0a013348d4ad39e90ef33cb3eca876
DTSTAMP:20260423T093424Z
SUMMARY:San Francisco Syncopaters
DESCRIPTION:
DTSTART:20250405T033000Z
DTEND:20250405T050000Z
LOCATION:653 Chenery St\, San Francisco\, CA 94131
END:VEVENT
BEGIN:VEVENT
UID:384a8fa44d76a31d8c5218fceb4486db
DTSTAMP:20260423T093424Z
SUMMARY:jazz at emmy&#8217\;s: danny brown
DESCRIPTION:
DTSTART:20250501T000000Z
DTEND:20250501T020000Z
LOCATION:3230 Mission St. San Francisco\, CA 94110
END:VEVENT
BEGIN:VEVENT
UID:32d5dfe0844f517c817e6354badc6aab
DTSTAMP:20260423T093424Z
SUMMARY:jazz at emmy&#8217\;s: sophie powers
DESCRIPTION:
DTSTART:20250424T000000Z
DTEND:20250424T020000Z
LOCATION:3230 Mission St. San Francisco\, CA 94110
END:VEVENT
BEGIN:VEVENT
UID:d65fcf6c6374babfb11c652429ee919b
DTSTAMP:20260423T093424Z
SUMMARY:jazz at emmy&#8217\;s: Daniel fabercant
DESCRIPTION:
DTSTART:20250417T000000Z
DTEND:20250417T020000Z
LOCATION:3230 Mission St. San Francisco\, CA 94110
END:VEVENT
BEGIN:VEVENT
UID:c03025c09f6913453c7bbcc2365ebd29
DTSTAMP:20260423T093424Z
SUMMARY:jazz at emmy&#8217\;s: charlie mccarthy
DESCRIPTION:
DTSTART:20250410T000000Z
DTEND:20250410T020000Z
LOCATION:3230 Mission St. San Francisco\, CA 94110
END:VEVENT
BEGIN:VEVENT
UID:df78f1238a5c726729b2b33a01ddf887
DTSTAMP:20260423T093424Z
SUMMARY:jazz at shuggie&#8217\;s: ken miller
DESCRIPTION:
DTSTART:20250430T010000Z
DTEND:20250430T030000Z
LOCATION:3349 23rd St\, San Francisco\, CA 94110
END:VEVENT
BEGIN:VTIMEZONE
TZID:UTC
END:VTIMEZONE
END:VCALENDAR
